BEGIN:VCALENDAR
VERSION:2.0
PRODID:-//WGI Womens Golf Illawarra - ECPv6.10.3//NONSGML v1.0//EN
CALSCALE:GREGORIAN
METHOD:PUBLISH
X-ORIGINAL-URL:https://womensgolfillawarra.com.au
X-WR-CALDESC:Events for WGI Womens Golf Illawarra
REFRESH-INTERVAL;VALUE=DURATION:PT1H
X-Robots-Tag:noindex
X-PUBLISHED-TTL:PT1H
BEGIN:VTIMEZONE
TZID:Australia/Sydney
BEGIN:STANDARD
TZOFFSETFROM:+1100
TZOFFSETTO:+1000
TZNAME:AEST
DTSTART:20210403T160000
END:STANDARD
BEGIN:DAYLIGHT
TZOFFSETFROM:+1000
TZOFFSETTO:+1100
TZNAME:AEDT
DTSTART:20211002T160000
END:DAYLIGHT
END:VTIMEZONE
BEGIN:VEVENT
DTSTART;TZID=Australia/Sydney:20210609T073000
DTEND;TZID=Australia/Sydney:20210609T140000
DTSTAMP:20260424T152919
CREATED:20210511T105118Z
LAST-MODIFIED:20210511T105124Z
UID:2559-1623223800-1623247200@womensgolfillawarra.com.au
SUMMARY:Kiama Charity Day 2021 at Kiama
DESCRIPTION:Date:\nWednesday 9th June\n\n\nEvent Format:\nTexas Team Stableford; 4 person team\, best 2 scores to count.\n\n\nStart:\n7:30 am\n\n\nDownloadable Entry\nKiama Charity Day June 2021\n\n\nEntries Close:\nWednesday 26th May\n\n\nCost:\n$20pp\n\n\nCarts:\nBook at Pro Shop Ph: 4237 7339\n\n\nOther Information:\nFunds raised for the Illawarra Women’s Health Centre
URL:https://womensgolfillawarra.com.au/event/kiama-charity-day-2021-at-kiama/
LOCATION:Kiama Golf Club\, 79-81 Oxley Avenue\, Kiama\, NSW\, 2500\, Australia
CATEGORIES:Club Open Day
ATTACH;FMTTYPE=image/png:https://womensgolfillawarra.com.au/wp-content/uploads/Kiama-CD-small-June-2021.png
END:VEVENT
BEGIN:VEVENT
DTSTART;TZID=Australia/Sydney:20210616T080000
DTEND;TZID=Australia/Sydney:20210616T140000
DTSTAMP:20260424T152919
CREATED:20210515T095609Z
LAST-MODIFIED:20210515T095616Z
UID:2563-1623830400-1623852000@womensgolfillawarra.com.au
SUMMARY:The Grange Biggest Morning Tea
DESCRIPTION:Date:\nWednesday 16th June\n\n\nEvent Format:\n4 Person Las Vegas Ambrose – 2 drives per player\n\n\nStart:\n\n\n\nDownloadable Entry\nThe Grange Biggest Tea 2021\n\n\nEntries Close:\n\n\n\nCost:\n$25\n\n\nCarts:\nBook at pro Shop 4261 1647\n\n\nOther Information:\nMulligan ribbons and Raffles (bring some cash). \nFunds raised support Cancer Council of Australia.
URL:https://womensgolfillawarra.com.au/event/the-grange-biggest-morning-tea/
LOCATION:The Grange Golf Course\, Princess Highway\, 10 Kembla Grange\, NSW\, 2526\, Australia
CATEGORIES:Club Open Day
ATTACH;FMTTYPE=image/png:https://womensgolfillawarra.com.au/wp-content/uploads/The-Grange-Big-Tea-small.png
END:VEVENT
END:VCALENDAR