BEGIN:VCALENDAR
VERSION:2.0
PRODID:-//WGI Womens Golf Illawarra - ECPv6.10.3//NONSGML v1.0//EN
CALSCALE:GREGORIAN
METHOD:PUBLISH
X-ORIGINAL-URL:https://womensgolfillawarra.com.au
X-WR-CALDESC:Events for WGI Womens Golf Illawarra
REFRESH-INTERVAL;VALUE=DURATION:PT1H
X-Robots-Tag:noindex
X-PUBLISHED-TTL:PT1H
BEGIN:VTIMEZONE
TZID:Australia/Sydney
BEGIN:STANDARD
TZOFFSETFROM:+1100
TZOFFSETTO:+1000
TZNAME:AEST
DTSTART:20210403T160000
END:STANDARD
BEGIN:DAYLIGHT
TZOFFSETFROM:+1000
TZOFFSETTO:+1100
TZNAME:AEDT
DTSTART:20211002T160000
END:DAYLIGHT
END:VTIMEZONE
BEGIN:VEVENT
DTSTART;TZID=Australia/Sydney:20210809T080000
DTEND;TZID=Australia/Sydney:20210809T140000
DTSTAMP:20260424T121930
CREATED:20210622T110241Z
LAST-MODIFIED:20210622T110247Z
UID:2607-1628496000-1628517600@womensgolfillawarra.com.au
SUMMARY:Veterans Open Event 2021 at Wollongong
DESCRIPTION:Date:\nMonday 9th August\n\n\nEvent Format:\n4 Person Las Vegas Ambrose\n\n\nStart:\n\n\n\nDownloadable Entry\nVeterans Open Event 2021 Wollongong\n\n\nEntries Close:\nThursday 26th July\n\n\nCost:\n$108 per team\n\n\nCarts:\nBook with Pro Shop 4222 3114\n\n\nOther Information:\nEntry & payment also available at the Pro Shop.
URL:https://womensgolfillawarra.com.au/event/veterans-open-event-2021-at-wollongong/
LOCATION:Wollongong Golf Club\, 151 - 161 Corrimal Street\, Wollongong\, NSW\, 2500\, Australia
CATEGORIES:Club Open Day
ATTACH;FMTTYPE=image/png:https://womensgolfillawarra.com.au/wp-content/uploads/Wollongong-Vets-FB.png
END:VEVENT
BEGIN:VEVENT
DTSTART;TZID=Australia/Sydney:20210818T080000
DTEND;TZID=Australia/Sydney:20210818T140000
DTSTAMP:20260424T121930
CREATED:20210724T103655Z
LAST-MODIFIED:20210724T103702Z
UID:2647-1629273600-1629295200@womensgolfillawarra.com.au
SUMMARY:Ladies Open 2021 at The Grange
DESCRIPTION:Date:\nWednesday 18th August\n\n\nEvent Format:\n18 holes stroke\n\n\nStart:\n8am\n\n\nDownloadable Entry\nLadies Open 2021 at The Grange\n\n\nEntries Close:\nWednesday 11th August\n\n\nCost:\n$25\n\n\nCarts:\nBook at Pro Shop 4261 1647\n\n\nOther Information:\nTo be included in draw ring Pro Shop or email entry form. Pay on the day.
URL:https://womensgolfillawarra.com.au/event/ladies-open-2021-at-the-grange/
LOCATION:The Grange Golf Course\, Princess Highway\, 10 Kembla Grange\, NSW\, 2526\, Australia
CATEGORIES:Club Open Day
ATTACH;FMTTYPE=image/png:https://womensgolfillawarra.com.au/wp-content/uploads/The-Grange-small-web.png
END:VEVENT
BEGIN:VEVENT
DTSTART;TZID=Australia/Sydney:20210820T083000
DTEND;TZID=Australia/Sydney:20210820T140000
DTSTAMP:20260424T121930
CREATED:20210713T032931Z
LAST-MODIFIED:20210713T032937Z
UID:2641-1629448200-1629468000@womensgolfillawarra.com.au
SUMMARY:Country Club Cup 2021 at St Georges Basin
DESCRIPTION:Date:\nFriday 20th August\n\n\nEvent Format:\n18 holes stableford\n\n\nStart:\n8:30 am\n\n\nDownloadable Entry\nCountry Club Cup 2021 at St Georges Basin\n\n\nEntries Close:\n9am Tuesday 10th August\n\n\nCost:\n$17\n\n\nCarts:\nAvailable at Pro Shop 4443 0836\n\n\nOther Information:\nCharity Day with players competing for the Country Club Cup. Lunch available for purchase at Country Club Cafe or Bistro.
URL:https://womensgolfillawarra.com.au/event/country-club-cup-2021-at-st-georges-basin/
LOCATION:St Georges Basin Country Club\, 11 Paradise Beach Road\, Sanctuary Point\, NSW\, 2540\, Australia
CATEGORIES:Club Open Day
ATTACH;FMTTYPE=image/png:https://womensgolfillawarra.com.au/wp-content/uploads/SGB-for-Web-FB.png
END:VEVENT
BEGIN:VEVENT
DTSTART;TZID=Australia/Sydney:20210831T080000
DTEND;TZID=Australia/Sydney:20210831T140000
DTSTAMP:20260424T121930
CREATED:20210628T094440Z
LAST-MODIFIED:20210821T060325Z
UID:2624-1630396800-1630418400@womensgolfillawarra.com.au
SUMMARY:Community Cancer Link 2021 at Jamberoo
DESCRIPTION:Date:\nTuesday 31st August\n\n\nEvent Format:\n3 Person Las Vegas Ambrose\n\n\nStart:\n8:30am shotgun start\n\n\nDownloadable Entry\nCommunity Cancer Link 2021 Jamberoo\n\n\nEntries Close:\nMonday 23rd August\n\n\nCost:\n$25 including lunch\n\n\nCarts:\nContact Pro Shop 4236 0404\n\n\nOther Information:\nCharity Day for Community Cancer Link
URL:https://womensgolfillawarra.com.au/event/community-cancer-link-2021-at-jamberoo/
LOCATION:Jamberoo Golf Club\, 21 Allowrie Street\, Jamberoo\, NSW\, 2533\, Australia
CATEGORIES:Club Open Day
ATTACH;FMTTYPE=image/png:https://womensgolfillawarra.com.au/wp-content/uploads/Jamberoo-small-for-web.png
END:VEVENT
END:VCALENDAR