BEGIN:VCALENDAR
VERSION:2.0
PRODID:-//WGI Womens Golf Illawarra - ECPv6.10.3//NONSGML v1.0//EN
CALSCALE:GREGORIAN
METHOD:PUBLISH
X-ORIGINAL-URL:https://womensgolfillawarra.com.au
X-WR-CALDESC:Events for WGI Womens Golf Illawarra
REFRESH-INTERVAL;VALUE=DURATION:PT1H
X-Robots-Tag:noindex
X-PUBLISHED-TTL:PT1H
BEGIN:VTIMEZONE
TZID:Australia/Sydney
BEGIN:STANDARD
TZOFFSETFROM:+1100
TZOFFSETTO:+1000
TZNAME:AEST
DTSTART:20220402T160000
END:STANDARD
BEGIN:DAYLIGHT
TZOFFSETFROM:+1000
TZOFFSETTO:+1100
TZNAME:AEDT
DTSTART:20221001T160000
END:DAYLIGHT
END:VTIMEZONE
BEGIN:VEVENT
DTSTART;TZID=Australia/Sydney:20220513T083000
DTEND;TZID=Australia/Sydney:20220513T140000
DTSTAMP:20260423T215437
CREATED:20220301T231628Z
LAST-MODIFIED:20220415T105220Z
UID:2748-1652430600-1652450400@womensgolfillawarra.com.au
SUMMARY:Charity Day May 2022 at Worrigee Links
DESCRIPTION:Date:\nFriday 13th May 2022\n\n\nEvent Format:\n4 Person Las Vegas Ambrose\n\n\nStart:\nShotgun start at 8:30am\n\n\nDownloadable Entry\nCharity Day May 2022 at Worrigee Links\n\n\nEntries Close:\n2nd May\n\n\nCost:\n$45 includes a 2-course lunch\n\n\nCarts:\nBook at Pro Shop 4421 7430\n\n\nOther Information:\nThis is a Charity Day for Legacy Group at Nowra
URL:https://womensgolfillawarra.com.au/event/charity-day-2022-at-worrigee-links/
LOCATION:Worrigee Links\, 133 Greenwell Point Road\, Worrigee\, NSW\, 2540\, Australia
CATEGORIES:Club Open Day
ATTACH;FMTTYPE=image/png:https://womensgolfillawarra.com.au/wp-content/uploads/Screen-Shot-WL-May.png
END:VEVENT
BEGIN:VEVENT
DTSTART;TZID=Australia/Sydney:20220518T090000
DTEND;TZID=Australia/Sydney:20220518T140000
DTSTAMP:20260423T215437
CREATED:20220405T230833Z
LAST-MODIFIED:20220405T230838Z
UID:2767-1652864400-1652882400@womensgolfillawarra.com.au
SUMMARY:Charity Day 2022 at Sussex Inlet
DESCRIPTION:Date:\nWednesday 18th May 2022\n\n\nEvent Format:\n18 Hole Women’s and Men’s Single Stableford\n\n\nStart:\nShot Gun Start @ 9am\n\n\nDownloadable Entry\nCharity Day 2022 at Sussex Inlet\n\n\nEntries Close:\nFriday 13th May\n\n\nCost:\n$20 pp including BBQ lunch\n\n\nCarts:\nIndicate on form; Own Carts may be used for a fee of  $10.00  \n\n\nOther Information:\nThis is a fun day – You can purchase Cards for: ‘Get out of Bunker Free ’\, \n‘Second Chance Drive’ and ‘1m – string – Rough Relief’.  Also a Monster Raffle.
URL:https://womensgolfillawarra.com.au/event/charity-day-2022-at-sussex-inlet/
LOCATION:Sussex Inlet Golf Club\, 7 Golfcourse Way\, Sussex Inlet\, NSW\, 2540\, Australia
CATEGORIES:Club Open Day
ATTACH;FMTTYPE=image/png:https://womensgolfillawarra.com.au/wp-content/uploads/Screen-Shot-2022-04-06-at-8.44.40-am.png
END:VEVENT
END:VCALENDAR