BEGIN:VCALENDAR
VERSION:2.0
PRODID:-//WGI Womens Golf Illawarra - ECPv6.10.3//NONSGML v1.0//EN
CALSCALE:GREGORIAN
METHOD:PUBLISH
X-ORIGINAL-URL:https://womensgolfillawarra.com.au
X-WR-CALDESC:Events for WGI Womens Golf Illawarra
REFRESH-INTERVAL;VALUE=DURATION:PT1H
X-Robots-Tag:noindex
X-PUBLISHED-TTL:PT1H
BEGIN:VTIMEZONE
TZID:Australia/Sydney
BEGIN:STANDARD
TZOFFSETFROM:+1100
TZOFFSETTO:+1000
TZNAME:AEST
DTSTART:20220402T160000
END:STANDARD
BEGIN:DAYLIGHT
TZOFFSETFROM:+1000
TZOFFSETTO:+1100
TZNAME:AEDT
DTSTART:20221001T160000
END:DAYLIGHT
END:VTIMEZONE
BEGIN:VEVENT
DTSTART;TZID=Australia/Sydney:20220919T083000
DTEND;TZID=Australia/Sydney:20220919T140000
DTSTAMP:20260423T162254
CREATED:20220822T052041Z
LAST-MODIFIED:20220822T052045Z
UID:2831-1663576200-1663596000@womensgolfillawarra.com.au
SUMMARY:Charity Day 2022 at Worrigee Links
DESCRIPTION:Date:\nMonday 19th September\n\n\nEvent Format:\n4 person Las Vegas Ambrose\n\n\nStart:\nShotgun start 8:30am\n\n\nDownloadable Entry\nCharity Day 2022 at Worrigee Links\n\n\nEntries Close:\n5th September\n\n\nCost:\n$45 pp\n\n\nCarts:\nBook at Pro Shop 4421 7430\n\n\nOther Information:\n2 course lunch included
URL:https://womensgolfillawarra.com.au/event/charity-day-2022-at-worrigee-links-2/
LOCATION:Worrigee Links\, 133 Greenwell Point Road\, Worrigee\, NSW\, 2540\, Australia
CATEGORIES:Club Open Day
ATTACH;FMTTYPE=image/png:https://womensgolfillawarra.com.au/wp-content/uploads/Screen-Shot-WL.png
END:VEVENT
BEGIN:VEVENT
DTSTART;TZID=Australia/Sydney:20220920T080000
DTEND;TZID=Australia/Sydney:20220920T140000
DTSTAMP:20260423T162254
CREATED:20220809T035651Z
LAST-MODIFIED:20220809T035656Z
UID:2817-1663660800-1663682400@womensgolfillawarra.com.au
SUMMARY:Community Cancer Link Day 2022 at Jamberoo
DESCRIPTION:Date:\nTuesday 20th September\n\n\nEvent Format:\n3 Person Las Vegas Ambrose\n\n\nStart:\nShotgun start 8am for 8:30am\n\n\nDownloadable Entry\nCommunity Cancer Link Day 2022 at Jamberoo\n\n\nEntries Close:\nFriday 16th September\n\n\nCost:\n$25 includes game & lunch\n\n\nCarts:\nBook at Pro Shop 4236 0404\n\n\nOther Information:\nThis is a Charity Day for Community Cancer link
URL:https://womensgolfillawarra.com.au/event/community-cancer-link-day-2022-at-jamberoo/
LOCATION:Jamberoo Golf Club\, 21 Allowrie Street\, Jamberoo\, NSW\, 2533\, Australia
CATEGORIES:Club Open Day
ATTACH;FMTTYPE=image/png:https://womensgolfillawarra.com.au/wp-content/uploads/Screen-Shot-Jam-Sept.png
END:VEVENT
BEGIN:VEVENT
DTSTART;TZID=Australia/Sydney:20220921T073000
DTEND;TZID=Australia/Sydney:20220921T140000
DTSTAMP:20260423T162254
CREATED:20220803T104128Z
LAST-MODIFIED:20220803T104138Z
UID:2812-1663745400-1663768800@womensgolfillawarra.com.au
SUMMARY:Peterborough Charity Day 2022 at Kiama
DESCRIPTION:Date:\nWednesday 21st September\n\n\nEvent Format:\nTeam of 4 Stableford 1\, 2\, 3 Countdown\n\n\nStart:\n7:30 am\n\n\nDownloadable Entry\nPeterborough Charity Day 2022 at Kiama\n\n\nEntries Close:\n15th September\n\n\nCost:\n$80 per team\n\n\nCarts:\nBook at Pro Shop 4237 7300\n\n\nOther Information:\nPlease book at mitournament.com \nIf you require assistance\, please ring the Pro Shop.
URL:https://womensgolfillawarra.com.au/event/peterborough-charity-day-2022-at-kiama/
LOCATION:Kiama Golf Club\, 79-81 Oxley Avenue\, Kiama\, NSW\, 2500\, Australia
CATEGORIES:Club Open Day
ATTACH;FMTTYPE=image/png:https://womensgolfillawarra.com.au/wp-content/uploads/Screen-Shot-Kiama-Website.png
END:VEVENT
BEGIN:VEVENT
DTSTART;TZID=Australia/Sydney:20220929T083000
DTEND;TZID=Australia/Sydney:20220929T140000
DTSTAMP:20260423T162254
CREATED:20220815T105017Z
LAST-MODIFIED:20220815T105024Z
UID:2826-1664440200-1664460000@womensgolfillawarra.com.au
SUMMARY:Gail Burgin Memorial Trophy 2022 at Gerringong
DESCRIPTION:Date:\nThursday 29th September\n\n\nEvent Format:\n18 holes stableford\n\n\nStart:\nShotgun start 8:30 am\n\n\nDownloadable Entry\nGail Burgin Trophy 2022 at Gerringong\n\n\nEntries Close:\nWednesday 21st September\n\n\nCost:\n$40 includes game & lunch\n\n\nCarts:\nBook at Pro Shop 4234 3333\n\n\nOther Information:
URL:https://womensgolfillawarra.com.au/event/gail-burgin-memorial-trophy-2022-at-gerringong-2/
LOCATION:Gerringong Golf Club\, Crooked River Road\, Gerringong\, NSW\, 2534\, Australia
CATEGORIES:Club Open Day
ATTACH;FMTTYPE=image/png:https://womensgolfillawarra.com.au/wp-content/uploads/Screen-Shot-Gerringong.png
END:VEVENT
END:VCALENDAR