BEGIN:VCALENDAR
VERSION:2.0
PRODID:-//WGI Womens Golf Illawarra - ECPv6.10.3//NONSGML v1.0//EN
CALSCALE:GREGORIAN
METHOD:PUBLISH
X-WR-CALNAME:WGI Womens Golf Illawarra
X-ORIGINAL-URL:https://womensgolfillawarra.com.au
X-WR-CALDESC:Events for WGI Womens Golf Illawarra
REFRESH-INTERVAL;VALUE=DURATION:PT1H
X-Robots-Tag:noindex
X-PUBLISHED-TTL:PT1H
BEGIN:VTIMEZONE
TZID:Australia/Sydney
BEGIN:STANDARD
TZOFFSETFROM:+1100
TZOFFSETTO:+1000
TZNAME:AEST
DTSTART:20220402T160000
END:STANDARD
BEGIN:DAYLIGHT
TZOFFSETFROM:+1000
TZOFFSETTO:+1100
TZNAME:AEDT
DTSTART:20221001T160000
END:DAYLIGHT
END:VTIMEZONE
BEGIN:VEVENT
DTSTART;TZID=Australia/Sydney:20221218T073000
DTEND;TZID=Australia/Sydney:20221218T140000
DTSTAMP:20260423T110750
CREATED:20221129T095906Z
LAST-MODIFIED:20221129T095906Z
UID:2912-1671348600-1671372000@womensgolfillawarra.com.au
SUMMARY:Ladies' Open 2022 at The Grange
DESCRIPTION:Date:\nSunday 18th December\n\n\nEvent Format:\n18 holes stroke\n\n\nStart:\n7:30am\n\n\nDownloadable Entry\nLadies’ Open 2022 at The Grange\n\n\nEntries Close:\nMonday 12th December\n\n\nCost:\n$25 for members; $35 for visitors\n\n\nCarts:\nBook at Pro Shop 4261 1647\n\n\nOther Information:\nPlayed in conjunction with Men’s Open. Ladies will have their own competition & tee times.
URL:https://womensgolfillawarra.com.au/event/ladies-open-2022-at-the-grange-2/
LOCATION:The Grange Golf Course\, Princess Highway\, 10 Kembla Grange\, NSW\, 2526\, Australia
CATEGORIES:Club Open Day
ATTACH;FMTTYPE=image/png:https://womensgolfillawarra.com.au/wp-content/uploads/Screenshot-TG-2022.png
END:VEVENT
END:VCALENDAR