BEGIN:VCALENDAR
VERSION:2.0
PRODID:-//WGI Womens Golf Illawarra - ECPv6.10.3//NONSGML v1.0//EN
CALSCALE:GREGORIAN
METHOD:PUBLISH
X-WR-CALNAME:WGI Womens Golf Illawarra
X-ORIGINAL-URL:https://womensgolfillawarra.com.au
X-WR-CALDESC:Events for WGI Womens Golf Illawarra
REFRESH-INTERVAL;VALUE=DURATION:PT1H
X-Robots-Tag:noindex
X-PUBLISHED-TTL:PT1H
BEGIN:VTIMEZONE
TZID:Australia/Sydney
BEGIN:STANDARD
TZOFFSETFROM:+1100
TZOFFSETTO:+1000
TZNAME:AEST
DTSTART:20230401T160000
END:STANDARD
BEGIN:DAYLIGHT
TZOFFSETFROM:+1000
TZOFFSETTO:+1100
TZNAME:AEDT
DTSTART:20230930T160000
END:DAYLIGHT
END:VTIMEZONE
BEGIN:VEVENT
DTSTART;TZID=Australia/Sydney:20230301T073000
DTEND;TZID=Australia/Sydney:20230301T140000
DTSTAMP:20260423T055543
CREATED:20230127T045238Z
LAST-MODIFIED:20230127T050141Z
UID:2926-1677655800-1677679200@womensgolfillawarra.com.au
SUMMARY:Ladies Open 2023 at The Grange
DESCRIPTION:Date:\nWednesday 1st March 2023\n\n\nEvent Format:\n18 holes stroke\n\n\nStart:\n7:30 am\n\n\nDownloadable Entry\nLadies Open 2023 at The Grange \nLadies Open 2023 at The Grange\n\n\nEntries Close:\nWed 22nd February\n\n\nCost:\n$25 pp\n\n\nCarts:\nBook at pro Shop 4261 1647\n\n\nOther Information:\nNew layout for Back 9 holes and new ratings.
URL:https://womensgolfillawarra.com.au/event/ladies-open-2023-at-the-grange/
LOCATION:The Grange Golf Course\, Princess Highway\, 10 Kembla Grange\, NSW\, 2526\, Australia
CATEGORIES:Club Open Day
ATTACH;FMTTYPE=image/png:https://womensgolfillawarra.com.au/wp-content/uploads/Screenshot-The-Grange.png
END:VEVENT
BEGIN:VEVENT
DTSTART;TZID=Australia/Sydney:20230315T073000
DTEND;TZID=Australia/Sydney:20230315T140000
DTSTAMP:20260423T055543
CREATED:20230212T095417Z
LAST-MODIFIED:20230212T100346Z
UID:2954-1678865400-1678888800@womensgolfillawarra.com.au
SUMMARY:Women’s Autumn Cup 2023 at Kiama
DESCRIPTION:Date:\nWednesday 15th March 2023\n\n\nEvent Format:\n2 Person Ambrose\n\n\nStart:\n7:30 am\n\n\nDownloadable Entry\nWomen’s Autumn Cup 2023 at Kiama \nAutumn Cup Conditions 2023 Kiama\n\n\nEntries Close:\nFriday 10th March\n\n\nCost:\n$50 per team\n\n\nCarts:\nBook via Pro Shop 4237 7300\n\n\nOther Information:\nSt Patrick’s Day theme.  Entry through mitournament.com.au
URL:https://womensgolfillawarra.com.au/event/womens-autumn-cup-2023-at-kiama/
LOCATION:Kiama Golf Club\, 79-81 Oxley Avenue\, Kiama\, NSW\, 2500\, Australia
CATEGORIES:Club Open Day
ATTACH;FMTTYPE=image/jpeg:https://womensgolfillawarra.com.au/wp-content/uploads/FBA33938-6509-456A-96F6-69A5D60F6A08.jpeg
END:VEVENT
BEGIN:VEVENT
DTSTART;TZID=Australia/Sydney:20230321T073000
DTEND;TZID=Australia/Sydney:20230321T140000
DTSTAMP:20260423T055543
CREATED:20230212T040657Z
LAST-MODIFIED:20230212T040657Z
UID:2950-1679383800-1679407200@womensgolfillawarra.com.au
SUMMARY:Charity Day 2023 at Jamberoo
DESCRIPTION:Date:\nTuesday 21st March 2023\n\n\nEvent Format:\n3 Person Hartball\n\n\nStart:\nShotgun start 7:30 for 8:00 am\n\n\nDownloadable Entry\nCharity Day 2023 at Jamberoo\n\n\nEntries Close:\nMonday 13th March\n\n\nCost:\n$25 includes lunch\n\n\nCarts:\nBook at Jamberoo 4236 0404\n\n\nOther Information:\nOvarian Cancer Charity Day
URL:https://womensgolfillawarra.com.au/event/charity-day-2023-at-jamberoo/
LOCATION:Jamberoo Golf Club\, 21 Allowrie Street\, Jamberoo\, NSW\, 2533\, Australia
CATEGORIES:Club Open Day
ATTACH;FMTTYPE=image/jpeg:https://womensgolfillawarra.com.au/wp-content/uploads/FB792900-B729-4CAD-9947-B666147F0AE0.jpeg
END:VEVENT
BEGIN:VEVENT
DTSTART;TZID=Australia/Sydney:20230323T073000
DTEND;TZID=Australia/Sydney:20230323T140000
DTSTAMP:20260423T055543
CREATED:20230202T094110Z
LAST-MODIFIED:20230202T094110Z
UID:2944-1679556600-1679580000@womensgolfillawarra.com.au
SUMMARY:Charity Day 2023 at Wollongong
DESCRIPTION:Date:\nThursday 23rd March 2023\n\n\nEvent Format:\n4 Person Team Hartball\n\n\nStart:\n7:30 am\n\n\nDownloadable Entry\nCharity Day 2023 at Wollongong \nCharity Day 2023 at Wollongong\n\n\nEntries Close:\nThursday 9th March\n\n\nCost:\n$180 per team includes lunch\n\n\nCarts:\nBook through pro Shop 4222 3114\n\n\nOther Information:\nThis is a Breast Cancer & Lymphoedema Charity Day. Entry forms & payment are also available at the Pro Shop.
URL:https://womensgolfillawarra.com.au/event/charity-day-2023-at-wollongong/
LOCATION:Wollongong Golf Club\, 151 - 161 Corrimal Street\, Wollongong\, NSW\, 2500\, Australia
CATEGORIES:Club Open Day
ATTACH;FMTTYPE=image/png:https://womensgolfillawarra.com.au/wp-content/uploads/Screenshot-2023-02-02-at-6.33.19-pm.png
END:VEVENT
BEGIN:VEVENT
DTSTART;TZID=Australia/Sydney:20230324T073000
DTEND;TZID=Australia/Sydney:20230324T140000
DTSTAMP:20260423T055543
CREATED:20230129T095212Z
LAST-MODIFIED:20230129T095628Z
UID:2937-1679643000-1679666400@womensgolfillawarra.com.au
SUMMARY:Charity Day 2023 at St Georges Basin
DESCRIPTION:Date:\nFriday 24th March 2023\n\n\nEvent Format:\n4 Person 1\,2\,3 countdown stableford\n\n\nStart:\n7:30 am\n\n\nDownloadable Entry\nCharity Day 2023 at St Georges Basin \nCharity Day 2023 at St Georges Basin\n\n\nEntries Close:\nFriday 17th March\n\n\nCost:\n$20 includes coffee/tea & slice\, lucky door prize\n\n\nCarts:\nBook via the Pro Shop 4443 0836\n\n\nOther Information:\nNovelty events & raffles. Hole-in-One on any Hole $250.
URL:https://womensgolfillawarra.com.au/event/charity-day-2023-at-st-georges-basin/
LOCATION:St Georges Basin Country Club\, 11 Paradise Beach Road\, Sanctuary Point\, NSW\, 2540\, Australia
CATEGORIES:Club Open Day
ATTACH;FMTTYPE=image/png:https://womensgolfillawarra.com.au/wp-content/uploads/Screenshot-Featured-image-Web.png
END:VEVENT
END:VCALENDAR