BEGIN:VCALENDAR
VERSION:2.0
PRODID:-//WGI Womens Golf Illawarra - ECPv6.10.3//NONSGML v1.0//EN
CALSCALE:GREGORIAN
METHOD:PUBLISH
X-WR-CALNAME:WGI Womens Golf Illawarra
X-ORIGINAL-URL:https://womensgolfillawarra.com.au
X-WR-CALDESC:Events for WGI Womens Golf Illawarra
REFRESH-INTERVAL;VALUE=DURATION:PT1H
X-Robots-Tag:noindex
X-PUBLISHED-TTL:PT1H
BEGIN:VTIMEZONE
TZID:Australia/Sydney
BEGIN:STANDARD
TZOFFSETFROM:+1100
TZOFFSETTO:+1000
TZNAME:AEST
DTSTART:20210403T160000
END:STANDARD
BEGIN:DAYLIGHT
TZOFFSETFROM:+1000
TZOFFSETTO:+1100
TZNAME:AEDT
DTSTART:20211002T160000
END:DAYLIGHT
END:VTIMEZONE
BEGIN:VEVENT
DTSTART;TZID=Australia/Sydney:20210331T090000
DTEND;TZID=Australia/Sydney:20210331T150000
DTSTAMP:20260424T200851
CREATED:20210307T054532Z
LAST-MODIFIED:20210313T224505Z
UID:1871-1617181200-1617202800@womensgolfillawarra.com.au
SUMMARY:Sussex Inlet Neighbourhood Centre Charity Day Open Stableford 2021
DESCRIPTION:Date:\nWednesday 31st March\n\n\nEvent Format:\n18 Hole Women and Mens Single Stableford\n\n\nStart:\nShot Gun Start @ 9am\n\n\nDownloadable Entry\nSussex Ladies Charity Day March 2021 Entry Form\n\n\nEntries Close:\nFriday 26th March\n\n\nCost:\n$20 pp including BBQ lunch\n\n\nCarts:\nIndicate on form; Own Carts may be used for a fee of  $10.00\n\nOther Information:\nThis is a fun day – You can purchase Cards for: ‘Get out of Bunker Free ’\,‘Second Chance Drive’ and ‘1m – string – Rough Relief’.  Also a Monster Raffle.\n\n\n\n 
URL:https://womensgolfillawarra.com.au/event/sussex-inlet-open-stableford/
LOCATION:Sussex Inlet Golf Club\, 7 Golfcourse Way\, Sussex Inlet\, NSW\, 2540\, Australia
CATEGORIES:Club Open Day
ATTACH;FMTTYPE=image/png:https://womensgolfillawarra.com.au/wp-content/uploads/Sussex-Inlet-Neighbourhood-2021.png
END:VEVENT
END:VCALENDAR