BEGIN:VCALENDAR
VERSION:2.0
PRODID:-//WGI Womens Golf Illawarra - ECPv6.10.3//NONSGML v1.0//EN
CALSCALE:GREGORIAN
METHOD:PUBLISH
X-WR-CALNAME:WGI Womens Golf Illawarra
X-ORIGINAL-URL:https://womensgolfillawarra.com.au
X-WR-CALDESC:Events for WGI Womens Golf Illawarra
REFRESH-INTERVAL;VALUE=DURATION:PT1H
X-Robots-Tag:noindex
X-PUBLISHED-TTL:PT1H
BEGIN:VTIMEZONE
TZID:Australia/Sydney
BEGIN:STANDARD
TZOFFSETFROM:+1100
TZOFFSETTO:+1000
TZNAME:AEST
DTSTART:20210403T160000
END:STANDARD
BEGIN:DAYLIGHT
TZOFFSETFROM:+1000
TZOFFSETTO:+1100
TZNAME:AEDT
DTSTART:20211002T160000
END:DAYLIGHT
END:VTIMEZONE
BEGIN:VEVENT
DTSTART;TZID=Australia/Sydney:20210401T080000
DTEND;TZID=Australia/Sydney:20210401T150000
DTSTAMP:20260424T200845
CREATED:20210311T072402Z
LAST-MODIFIED:20210330T032044Z
UID:1910-1617264000-1617289200@womensgolfillawarra.com.au
SUMMARY:South Coast Championships 2021 at Wollongong
DESCRIPTION:Date:\n Thursday 1 April 2021\n\n\nEvent Format:\n 18 Holes Stroke\n\n\nStart:\n Seeded draw\n\n\nDownloadable Entry\n Woll Sth Coast Champ April 2021 Entry\n\n\nEntries Close:\n 18 March 2021\n\n\nCost:\n $25\n\n\nCarts:\n Contact the Pro Shop 02 4222 3114\n\n\nOther Information:\n Played in 3 divisions determined by number of entries.
URL:https://womensgolfillawarra.com.au/event/south-coast-championships-2021/
LOCATION:Wollongong Golf Club\, 151 - 161 Corrimal Street\, Wollongong\, NSW\, 2500\, Australia
CATEGORIES:Club Open Day
ATTACH;FMTTYPE=image/png:https://womensgolfillawarra.com.au/wp-content/uploads/South-Coast-Open-2021.png
END:VEVENT
END:VCALENDAR