BEGIN:VCALENDAR
VERSION:2.0
PRODID:-//WGI Womens Golf Illawarra - ECPv6.10.3//NONSGML v1.0//EN
CALSCALE:GREGORIAN
METHOD:PUBLISH
X-WR-CALNAME:WGI Womens Golf Illawarra
X-ORIGINAL-URL:https://womensgolfillawarra.com.au
X-WR-CALDESC:Events for WGI Womens Golf Illawarra
REFRESH-INTERVAL;VALUE=DURATION:PT1H
X-Robots-Tag:noindex
X-PUBLISHED-TTL:PT1H
BEGIN:VTIMEZONE
TZID:Australia/Sydney
BEGIN:STANDARD
TZOFFSETFROM:+1100
TZOFFSETTO:+1000
TZNAME:AEST
DTSTART:20210403T160000
END:STANDARD
BEGIN:DAYLIGHT
TZOFFSETFROM:+1000
TZOFFSETTO:+1100
TZNAME:AEDT
DTSTART:20211002T160000
END:DAYLIGHT
END:VTIMEZONE
BEGIN:VEVENT
DTSTART;TZID=Australia/Sydney:20210414T080000
DTEND;TZID=Australia/Sydney:20210414T140000
DTSTAMP:20260424T200851
CREATED:20210330T024526Z
LAST-MODIFIED:20210330T063646Z
UID:2514-1618387200-1618408800@womensgolfillawarra.com.au
SUMMARY:The Grange Open Foursomes 2021
DESCRIPTION:Date:\nWednesday 14th April\n\n\nEvent Format:\nOpen 18 holes Foursomes\n\n\nStart:\n8am\n\n\nDownloadable Entry\nThe Grange Open Foursomes 2021\n\n\nEntries Close:\nTuesday 6th April\n\n\nCost:\n$25 payable on the day\n\n\nCarts:\n\n\n\nOther Information:\nDaily Handicaps to 54. Contact the Golf Shop 4261 1647 to be in the draw.
URL:https://womensgolfillawarra.com.au/event/the-grange-open-foursomes-2021/
LOCATION:The Grange Golf Course\, Princess Highway\, 10 Kembla Grange\, NSW\, 2526\, Australia
CATEGORIES:Club Open Day
ATTACH;FMTTYPE=image/png:https://womensgolfillawarra.com.au/wp-content/uploads/Grange-crop-2021.png
END:VEVENT
END:VCALENDAR