BEGIN:VCALENDAR
VERSION:2.0
PRODID:-//WGI Womens Golf Illawarra - ECPv6.10.3//NONSGML v1.0//EN
CALSCALE:GREGORIAN
METHOD:PUBLISH
X-WR-CALNAME:WGI Womens Golf Illawarra
X-ORIGINAL-URL:https://womensgolfillawarra.com.au
X-WR-CALDESC:Events for WGI Womens Golf Illawarra
REFRESH-INTERVAL;VALUE=DURATION:PT1H
X-Robots-Tag:noindex
X-PUBLISHED-TTL:PT1H
BEGIN:VTIMEZONE
TZID:Australia/Sydney
BEGIN:STANDARD
TZOFFSETFROM:+1100
TZOFFSETTO:+1000
TZNAME:AEST
DTSTART:20210403T160000
END:STANDARD
BEGIN:DAYLIGHT
TZOFFSETFROM:+1000
TZOFFSETTO:+1100
TZNAME:AEDT
DTSTART:20211002T160000
END:DAYLIGHT
END:VTIMEZONE
BEGIN:VEVENT
DTSTART;TZID=Australia/Sydney:20210420T080000
DTEND;TZID=Australia/Sydney:20210420T140000
DTSTAMP:20260424T200844
CREATED:20210408T095554Z
LAST-MODIFIED:20210408T095615Z
UID:2548-1618905600-1618927200@womensgolfillawarra.com.au
SUMMARY:Charity Day 2021 at Jamberoo
DESCRIPTION:Date:\nTuesday 20th April\n\n\nEvent Format:\n3 Person Hartball\n\n\nStart:\nTee times will be allocated\n\n\nDownloadable Entry\nCharity Day 2021 at Jamberoo\n\n\nEntries Close:\n12th April\n\n\nCost:\n$20\n\n\nCarts:\nContact pro Shop 4236 0404\n\n\nOther Information:\nOvarian Cancer Charity Day – wear something teal.
URL:https://womensgolfillawarra.com.au/event/charity-day-2021-at-jamberoo/
LOCATION:Jamberoo Golf Club\, 21 Allowrie Street\, Jamberoo\, NSW\, 2533\, Australia
CATEGORIES:Club Open Day
ATTACH;FMTTYPE=image/png:https://womensgolfillawarra.com.au/wp-content/uploads/Jamberoo-entry-cropped-2.png
END:VEVENT
BEGIN:VEVENT
DTSTART;TZID=Australia/Sydney:20210420T080000
DTEND;TZID=Australia/Sydney:20210420T170000
DTSTAMP:20260424T200844
CREATED:20210326T210628Z
LAST-MODIFIED:20210328T215546Z
UID:2096-1618905600-1618938000@womensgolfillawarra.com.au
SUMMARY:Vinnies Charity Day 2021 at Port Kembla
DESCRIPTION:  \n\n\n\nDate:\nTuesday 20th April\n\n\nEvent Format:\n18 holes 4 person Las Vegas Ambrose; Ladies’ teams & Medley teams.\n\n\nStart:\n\n\n\nDownloadable Entry\nVinnies Charity Day 2021 Port Kembla entry form\n\n\nEntries Close:\n10th April\n\n\nCost:\n$30 pp\n\n\nCarts:\nBook at Pro Shop 4274 1159\n\n\nOther Information:
URL:https://womensgolfillawarra.com.au/event/vinnies-charity-day-2021-at-port-kembla/
LOCATION:Port Kembla Golf Club\, Golf Place\, Primbee\, NSW\, 2502\, Australia
CATEGORIES:Club Open Day
ATTACH;FMTTYPE=image/png:https://womensgolfillawarra.com.au/wp-content/uploads/PK-Vinnies.png
END:VEVENT
END:VCALENDAR