BEGIN:VCALENDAR
VERSION:2.0
PRODID:-//WGI Womens Golf Illawarra - ECPv6.10.3//NONSGML v1.0//EN
CALSCALE:GREGORIAN
METHOD:PUBLISH
X-ORIGINAL-URL:https://womensgolfillawarra.com.au
X-WR-CALDESC:Events for WGI Womens Golf Illawarra
REFRESH-INTERVAL;VALUE=DURATION:PT1H
X-Robots-Tag:noindex
X-PUBLISHED-TTL:PT1H
BEGIN:VTIMEZONE
TZID:Australia/Sydney
BEGIN:STANDARD
TZOFFSETFROM:+1100
TZOFFSETTO:+1000
TZNAME:AEST
DTSTART:20220402T160000
END:STANDARD
BEGIN:DAYLIGHT
TZOFFSETFROM:+1000
TZOFFSETTO:+1100
TZNAME:AEDT
DTSTART:20221001T160000
END:DAYLIGHT
END:VTIMEZONE
BEGIN:VEVENT
DTSTART;TZID=Australia/Sydney:20220224T080000
DTEND;TZID=Australia/Sydney:20220224T140000
DTSTAMP:20260424T041615
CREATED:20220202T024413Z
LAST-MODIFIED:20220202T024413Z
UID:2733-1645689600-1645711200@womensgolfillawarra.com.au
SUMMARY:Open Days 2022 at Links Shell Cove
DESCRIPTION:Date:\nThursday 24th February\n\n\nEvent Format:\n4 person Hartball\n\n\nStart:\n8am to 9am\n\n\nDownloadable Entry\n\n\n\nEntries Close:\n24th February\n\n\nCost:\n$33 comp fee & cart\n\n\nCarts:\nPro Shop\n\n\nOther Information:\nAll bookings at Pro Shop 4237 5955 \nLunch available at Links Tavern after golf.
URL:https://womensgolfillawarra.com.au/event/open-days-2022-at-links-shell-cove/
LOCATION:The Links Shell Cove Golf Club\, Golf Drive\, Shell Cove\, NSW\, 2529\, Australia
CATEGORIES:Club Open Day
ATTACH;FMTTYPE=image/png:https://womensgolfillawarra.com.au/wp-content/uploads/Links-Screen-Shot.png
END:VEVENT
END:VCALENDAR