BEGIN:VCALENDAR
VERSION:2.0
PRODID:-//WGI Womens Golf Illawarra - ECPv6.10.3//NONSGML v1.0//EN
CALSCALE:GREGORIAN
METHOD:PUBLISH
X-WR-CALNAME:WGI Womens Golf Illawarra
X-ORIGINAL-URL:https://womensgolfillawarra.com.au
X-WR-CALDESC:Events for WGI Womens Golf Illawarra
REFRESH-INTERVAL;VALUE=DURATION:PT1H
X-Robots-Tag:noindex
X-PUBLISHED-TTL:PT1H
BEGIN:VTIMEZONE
TZID:Australia/Sydney
BEGIN:STANDARD
TZOFFSETFROM:+1100
TZOFFSETTO:+1000
TZNAME:AEST
DTSTART:20220402T160000
END:STANDARD
BEGIN:DAYLIGHT
TZOFFSETFROM:+1000
TZOFFSETTO:+1100
TZNAME:AEDT
DTSTART:20221001T160000
END:DAYLIGHT
END:VTIMEZONE
BEGIN:VEVENT
DTSTART;TZID=Australia/Sydney:20220303T080000
DTEND;TZID=Australia/Sydney:20220303T140000
DTSTAMP:20260424T024136
CREATED:20220202T000758Z
LAST-MODIFIED:20220202T000805Z
UID:2724-1646294400-1646316000@womensgolfillawarra.com.au
SUMMARY:Breast Cancer Charity Day 2022 at Wollongong
DESCRIPTION:Date:\nThursday 3rd March 2022\n\n\nEvent Format:\n4 Person Team Hartball\n\n\nStart:\n\n\n\nDownloadable Entry\nBreast Cancer Charity Day 2022 at Wollongong\n\n\nEntries Close:\nThursday 17th February\n\n\nCost:\n$100 per team\n\n\nCarts:\nBook at Pro Shop 4222 3114\n\n\nOther Information:\nEntry & payment also at Pro Shop. \nThis is a Breast Cancer & Lymphoedema Charity Day.
URL:https://womensgolfillawarra.com.au/event/breast-cancer-charity-day-2022-at-wollongong/
LOCATION:Wollongong Golf Club\, 151 - 161 Corrimal Street\, Wollongong\, NSW\, 2500\, Australia
CATEGORIES:Club Open Day
ATTACH;FMTTYPE=image/png:https://womensgolfillawarra.com.au/wp-content/uploads/Screen-shot-Wollongong-entry.png
END:VEVENT
END:VCALENDAR