BEGIN:VCALENDAR
VERSION:2.0
PRODID:-//WGI Womens Golf Illawarra - ECPv6.10.3//NONSGML v1.0//EN
CALSCALE:GREGORIAN
METHOD:PUBLISH
X-ORIGINAL-URL:https://womensgolfillawarra.com.au
X-WR-CALDESC:Events for WGI Womens Golf Illawarra
REFRESH-INTERVAL;VALUE=DURATION:PT1H
X-Robots-Tag:noindex
X-PUBLISHED-TTL:PT1H
BEGIN:VTIMEZONE
TZID:Australia/Sydney
BEGIN:STANDARD
TZOFFSETFROM:+1100
TZOFFSETTO:+1000
TZNAME:AEST
DTSTART:20220402T160000
END:STANDARD
BEGIN:DAYLIGHT
TZOFFSETFROM:+1000
TZOFFSETTO:+1100
TZNAME:AEDT
DTSTART:20221001T160000
END:DAYLIGHT
END:VTIMEZONE
BEGIN:VEVENT
DTSTART;TZID=Australia/Sydney:20220316T073000
DTEND;TZID=Australia/Sydney:20220316T140000
DTSTAMP:20260424T024304
CREATED:20220224T055328Z
LAST-MODIFIED:20220224T055332Z
UID:2744-1647415800-1647439200@womensgolfillawarra.com.au
SUMMARY:Kiama Autumn Cup 2022 at Kiama Golf Club
DESCRIPTION:Date:\nWednesday 16th March\n\n\nEvent Format:\n2 Person Ambrose\n\n\nStart:\n2 tee start\n\n\nDownloadable Entry\nKiama Autumn Cup 2022 at Kiama Golf Club\n\n\nEntries Close:\n4th March\n\n\nCost:\n$20\n\n\nCarts:\nBook via the Pro Shop 4237 7339\n\n\nOther Information:\nGross & Net prizes in 2 divisions. \nSt Patrick’s Theme – players are encouraged to wear something green.
URL:https://womensgolfillawarra.com.au/event/kiama-autumn-cup-2022-at-kiama-golf-club/
LOCATION:Kiama Golf Club\, 79-81 Oxley Avenue\, Kiama\, NSW\, 2500\, Australia
CATEGORIES:Club Open Day
ATTACH;FMTTYPE=image/png:https://womensgolfillawarra.com.au/wp-content/uploads/Screen-Shot-2022-02-24-at-4.22.39-pm.png
END:VEVENT
END:VCALENDAR