BEGIN:VCALENDAR
VERSION:2.0
PRODID:-//WGI Womens Golf Illawarra - ECPv6.10.3//NONSGML v1.0//EN
CALSCALE:GREGORIAN
METHOD:PUBLISH
X-ORIGINAL-URL:https://womensgolfillawarra.com.au
X-WR-CALDESC:Events for WGI Womens Golf Illawarra
REFRESH-INTERVAL;VALUE=DURATION:PT1H
X-Robots-Tag:noindex
X-PUBLISHED-TTL:PT1H
BEGIN:VTIMEZONE
TZID:Australia/Sydney
BEGIN:STANDARD
TZOFFSETFROM:+1100
TZOFFSETTO:+1000
TZNAME:AEST
DTSTART:20220402T160000
END:STANDARD
BEGIN:DAYLIGHT
TZOFFSETFROM:+1000
TZOFFSETTO:+1100
TZNAME:AEDT
DTSTART:20221001T160000
END:DAYLIGHT
END:VTIMEZONE
BEGIN:VEVENT
DTSTART;TZID=Australia/Sydney:20220325T080000
DTEND;TZID=Australia/Sydney:20220325T140000
DTSTAMP:20260424T024424
CREATED:20220223T091253Z
LAST-MODIFIED:20220223T091534Z
UID:2738-1648195200-1648216800@womensgolfillawarra.com.au
SUMMARY:Charity Day 2022 at St Georges Basin
DESCRIPTION:Date:\nFriday 25th March 2022\n\n\nEvent Format:\n4 Person 1\, 2\, 3 Countdown Stableford\n\n\nStart:\n\n\n\nDownloadable Entry\nCharity Day 2022 at St Georges Basin\n\n\nEntries Close:\n18th March\n\n\nCost:\n$20\n\n\nCarts:\nBook via Pro Shop 4443 0836\n\n\nOther Information:\nNearest the Pin\, Drive & pitch\, Longest Drive – all in 3 divisions. \n$250 cash prize for Hole-in-One on any hole. Novelty events & raffles.
URL:https://womensgolfillawarra.com.au/event/charity-day-2022-at-st-georges-basin/
LOCATION:St Georges Basin Country Club\, 11 Paradise Beach Road\, Sanctuary Point\, NSW\, 2540\, Australia
CATEGORIES:Club Open Day
ATTACH;FMTTYPE=image/png:https://womensgolfillawarra.com.au/wp-content/uploads/SGB-Screen-Shot-Mar-2022.png
END:VEVENT
END:VCALENDAR