BEGIN:VCALENDAR
VERSION:2.0
PRODID:-//WGI Womens Golf Illawarra - ECPv6.10.3//NONSGML v1.0//EN
CALSCALE:GREGORIAN
METHOD:PUBLISH
X-ORIGINAL-URL:https://womensgolfillawarra.com.au
X-WR-CALDESC:Events for WGI Womens Golf Illawarra
REFRESH-INTERVAL;VALUE=DURATION:PT1H
X-Robots-Tag:noindex
X-PUBLISHED-TTL:PT1H
BEGIN:VTIMEZONE
TZID:Australia/Sydney
BEGIN:STANDARD
TZOFFSETFROM:+1100
TZOFFSETTO:+1000
TZNAME:AEST
DTSTART:20220402T160000
END:STANDARD
BEGIN:DAYLIGHT
TZOFFSETFROM:+1000
TZOFFSETTO:+1100
TZNAME:AEDT
DTSTART:20221001T160000
END:DAYLIGHT
END:VTIMEZONE
BEGIN:VEVENT
DTSTART;TZID=Australia/Sydney:20220808T073000
DTEND;TZID=Australia/Sydney:20220808T140000
DTSTAMP:20260423T191121
CREATED:20220708T065205Z
LAST-MODIFIED:20220708T065311Z
UID:2800-1659943800-1659967200@womensgolfillawarra.com.au
SUMMARY:Women Vets Open Day 2022 at Wollongong
DESCRIPTION:Date:\nMonday 8th August 2022\n\n\nEvent Format:\n3 person aggregate stableford\n\n\nStart:\n7:30am\n\n\nDownloadable Entry\nWomen Vets Open Day 2022 at Wollongong \nWomen Vets Open Day 2022 at Wollongong\n\n\nEntries Close:\nThursday 31st July\n\n\nCost:\n$75 per team\n\n\nCarts:\nBook through Pro Shop 4222 3114\n\n\nOther Information:
URL:https://womensgolfillawarra.com.au/event/women-vets-open-day-2022-at-wollongong/
LOCATION:Wollongong Golf Club\, 151 - 161 Corrimal Street\, Wollongong\, NSW\, 2500\, Australia
CATEGORIES:Club Open Day
ATTACH;FMTTYPE=image/png:https://womensgolfillawarra.com.au/wp-content/uploads/Screen-Shot-Wollongong.png
END:VEVENT
END:VCALENDAR