BEGIN:VCALENDAR
VERSION:2.0
PRODID:-//WGI Womens Golf Illawarra - ECPv6.10.3//NONSGML v1.0//EN
CALSCALE:GREGORIAN
METHOD:PUBLISH
X-WR-CALNAME:WGI Womens Golf Illawarra
X-ORIGINAL-URL:https://womensgolfillawarra.com.au
X-WR-CALDESC:Events for WGI Womens Golf Illawarra
REFRESH-INTERVAL;VALUE=DURATION:PT1H
X-Robots-Tag:noindex
X-PUBLISHED-TTL:PT1H
BEGIN:VTIMEZONE
TZID:Australia/Sydney
BEGIN:STANDARD
TZOFFSETFROM:+1100
TZOFFSETTO:+1000
TZNAME:AEST
DTSTART:20220402T160000
END:STANDARD
BEGIN:DAYLIGHT
TZOFFSETFROM:+1000
TZOFFSETTO:+1100
TZNAME:AEDT
DTSTART:20221001T160000
END:DAYLIGHT
END:VTIMEZONE
BEGIN:VEVENT
DTSTART;TZID=Australia/Sydney:20221103T073000
DTEND;TZID=Australia/Sydney:20221103T140000
DTSTAMP:20260423T144317
CREATED:20221016T043858Z
LAST-MODIFIED:20221016T043858Z
UID:2848-1667460600-1667484000@womensgolfillawarra.com.au
SUMMARY:Charity Day 2022 at Wollongong
DESCRIPTION:Date:\nThursday 3rd November\n\n\nEvent Format:\n4 person team Hartball\n\n\nStart:\n7:30am\n\n\nDownloadable Entry\nCharity Day 2022 at Wollongong\n\n\nEntries Close:\nThursday 20th October\n\n\nCost:\n$180 per team (includes lunch)\n\n\nCarts:\nPro Shop 4222 3114\n\n\nOther Information:\nProceeds to Carunya Dementia Day Therapy Centre\, Warilla
URL:https://womensgolfillawarra.com.au/event/charity-day-2022-at-wollongong/
LOCATION:Wollongong Golf Club\, 151 - 161 Corrimal Street\, Wollongong\, NSW\, 2500\, Australia
CATEGORIES:Club Open Day
ATTACH;FMTTYPE=image/png:https://womensgolfillawarra.com.au/wp-content/uploads/Screen-Shot-Woll.png
END:VEVENT
END:VCALENDAR