BEGIN:VCALENDAR
VERSION:2.0
PRODID:-//WGI Womens Golf Illawarra - ECPv6.10.3//NONSGML v1.0//EN
CALSCALE:GREGORIAN
METHOD:PUBLISH
X-ORIGINAL-URL:https://womensgolfillawarra.com.au
X-WR-CALDESC:Events for WGI Womens Golf Illawarra
REFRESH-INTERVAL;VALUE=DURATION:PT1H
X-Robots-Tag:noindex
X-PUBLISHED-TTL:PT1H
BEGIN:VTIMEZONE
TZID:Australia/Sydney
BEGIN:STANDARD
TZOFFSETFROM:+1100
TZOFFSETTO:+1000
TZNAME:AEST
DTSTART:20230401T160000
END:STANDARD
BEGIN:DAYLIGHT
TZOFFSETFROM:+1000
TZOFFSETTO:+1100
TZNAME:AEDT
DTSTART:20230930T160000
END:DAYLIGHT
END:VTIMEZONE
BEGIN:VEVENT
DTSTART;TZID=Australia/Sydney:20230323T073000
DTEND;TZID=Australia/Sydney:20230323T140000
DTSTAMP:20260423T074157
CREATED:20230202T094110Z
LAST-MODIFIED:20230202T094110Z
UID:2944-1679556600-1679580000@womensgolfillawarra.com.au
SUMMARY:Charity Day 2023 at Wollongong
DESCRIPTION:Date:\nThursday 23rd March 2023\n\n\nEvent Format:\n4 Person Team Hartball\n\n\nStart:\n7:30 am\n\n\nDownloadable Entry\nCharity Day 2023 at Wollongong \nCharity Day 2023 at Wollongong\n\n\nEntries Close:\nThursday 9th March\n\n\nCost:\n$180 per team includes lunch\n\n\nCarts:\nBook through pro Shop 4222 3114\n\n\nOther Information:\nThis is a Breast Cancer & Lymphoedema Charity Day. Entry forms & payment are also available at the Pro Shop.
URL:https://womensgolfillawarra.com.au/event/charity-day-2023-at-wollongong/
LOCATION:Wollongong Golf Club\, 151 - 161 Corrimal Street\, Wollongong\, NSW\, 2500\, Australia
CATEGORIES:Club Open Day
ATTACH;FMTTYPE=image/png:https://womensgolfillawarra.com.au/wp-content/uploads/Screenshot-2023-02-02-at-6.33.19-pm.png
END:VEVENT
END:VCALENDAR