BEGIN:VCALENDAR
VERSION:2.0
PRODID:-//WGI Womens Golf Illawarra - ECPv6.10.3//NONSGML v1.0//EN
CALSCALE:GREGORIAN
METHOD:PUBLISH
X-ORIGINAL-URL:https://womensgolfillawarra.com.au
X-WR-CALDESC:Events for WGI Womens Golf Illawarra
REFRESH-INTERVAL;VALUE=DURATION:PT1H
X-Robots-Tag:noindex
X-PUBLISHED-TTL:PT1H
BEGIN:VTIMEZONE
TZID:Australia/Sydney
BEGIN:STANDARD
TZOFFSETFROM:+1100
TZOFFSETTO:+1000
TZNAME:AEST
DTSTART:20230401T160000
END:STANDARD
BEGIN:DAYLIGHT
TZOFFSETFROM:+1000
TZOFFSETTO:+1100
TZNAME:AEDT
DTSTART:20230930T160000
END:DAYLIGHT
END:VTIMEZONE
BEGIN:VEVENT
DTSTART;TZID=Australia/Sydney:20230420T080000
DTEND;TZID=Australia/Sydney:20230420T140000
DTSTAMP:20260423T060014
CREATED:20230320T233333Z
LAST-MODIFIED:20230320T233333Z
UID:2963-1681977600-1681999200@womensgolfillawarra.com.au
SUMMARY:Gail Burgin Trophy 2023 at Gerringong
DESCRIPTION:Date:\nThursday 20th April 2023\n\n\nEvent Format:\n18 holes single stableford\n\n\nStart:\nShotgun start 8:30am\n\n\nDownloadable Entry\nGail Burgin Trophy 2023 at Gerringong\n\n\nEntries Close:\n12th April\n\n\nCost:\n$40 includes lunch\n\n\nCarts:\nBook at Pro Shop 4234 3333. Cost is $40 per cart payable on the day by card only.\n\n\nOther Information:\nPlayers are contesting the Gail Burgin Memorial Trophy.
URL:https://womensgolfillawarra.com.au/event/gail-burgin-trophy-2023-at-gerringong/
LOCATION:Gerringong Golf Club\, Crooked River Road\, Gerringong\, NSW\, 2534\, Australia
CATEGORIES:Club Open Day
ATTACH;FMTTYPE=image/png:https://womensgolfillawarra.com.au/wp-content/uploads/Screenshot-Gerr-for-website.png
END:VEVENT
END:VCALENDAR