BEGIN:VCALENDAR
VERSION:2.0
PRODID:-//WGI Womens Golf Illawarra - ECPv6.10.3//NONSGML v1.0//EN
CALSCALE:GREGORIAN
METHOD:PUBLISH
X-WR-CALNAME:WGI Womens Golf Illawarra
X-ORIGINAL-URL:https://womensgolfillawarra.com.au
X-WR-CALDESC:Events for WGI Womens Golf Illawarra
REFRESH-INTERVAL;VALUE=DURATION:PT1H
X-Robots-Tag:noindex
X-PUBLISHED-TTL:PT1H
BEGIN:VTIMEZONE
TZID:Australia/Sydney
BEGIN:STANDARD
TZOFFSETFROM:+1100
TZOFFSETTO:+1000
TZNAME:AEST
DTSTART:20230401T160000
END:STANDARD
BEGIN:DAYLIGHT
TZOFFSETFROM:+1000
TZOFFSETTO:+1100
TZNAME:AEDT
DTSTART:20230930T160000
END:DAYLIGHT
END:VTIMEZONE
BEGIN:VEVENT
DTSTART;TZID=Australia/Sydney:20230920T073000
DTEND;TZID=Australia/Sydney:20230920T140000
DTSTAMP:20260422T215647
CREATED:20230827T101645Z
LAST-MODIFIED:20230827T101645Z
UID:3058-1695195000-1695218400@womensgolfillawarra.com.au
SUMMARY:Peterborough Charity Day 2023 at Kiama
DESCRIPTION:Date:\nWednesday 20th September\n\n\nEvent Format:\n4 person Waltz Stableford\n\n\nStart:\n7:30 am\n\n\nDownloadable Entry\nPeterborough Charity Day 2023 at Kiama\n\n\nEntries Close:\nMonday 18th September\n\n\nCost:\n$25 pp\n\n\nCarts:\nBook through Pro Shop 4237 7300\n\n\nOther Information:\nAll funds raised go to Peterborough School\, Warilla
URL:https://womensgolfillawarra.com.au/event/peterborough-charity-day-2023-at-kiama/
LOCATION:Kiama Golf Club\, 79-81 Oxley Avenue\, Kiama\, NSW\, 2500\, Australia
CATEGORIES:Club Open Day
ATTACH;FMTTYPE=image/png:https://womensgolfillawarra.com.au/wp-content/uploads/Kiama-Peterborough-for-Web.png
END:VEVENT
END:VCALENDAR